BEGIN:VCALENDAR
VERSION:2.0
PRODID:-//ODANO - ECPv6.15.20//NONSGML v1.0//EN
CALSCALE:GREGORIAN
METHOD:PUBLISH
X-ORIGINAL-URL:https://odano.ca
X-WR-CALDESC:Events for ODANO
REFRESH-INTERVAL;VALUE=DURATION:PT1H
X-Robots-Tag:noindex
X-PUBLISHED-TTL:PT1H
BEGIN:VTIMEZONE
TZID:America/Toronto
BEGIN:DAYLIGHT
TZOFFSETFROM:-0500
TZOFFSETTO:-0400
TZNAME:EDT
DTSTART:20180311T070000
END:DAYLIGHT
BEGIN:STANDARD
TZOFFSETFROM:-0400
TZOFFSETTO:-0500
TZNAME:EST
DTSTART:20181104T060000
END:STANDARD
BEGIN:DAYLIGHT
TZOFFSETFROM:-0500
TZOFFSETTO:-0400
TZNAME:EDT
DTSTART:20190310T070000
END:DAYLIGHT
BEGIN:STANDARD
TZOFFSETFROM:-0400
TZOFFSETTO:-0500
TZNAME:EST
DTSTART:20191103T060000
END:STANDARD
BEGIN:DAYLIGHT
TZOFFSETFROM:-0500
TZOFFSETTO:-0400
TZNAME:EDT
DTSTART:20200308T070000
END:DAYLIGHT
BEGIN:STANDARD
TZOFFSETFROM:-0400
TZOFFSETTO:-0500
TZNAME:EST
DTSTART:20201101T060000
END:STANDARD
BEGIN:DAYLIGHT
TZOFFSETFROM:-0500
TZOFFSETTO:-0400
TZNAME:EDT
DTSTART:20210314T070000
END:DAYLIGHT
BEGIN:STANDARD
TZOFFSETFROM:-0400
TZOFFSETTO:-0500
TZNAME:EST
DTSTART:20211107T060000
END:STANDARD
END:VTIMEZONE
BEGIN:VEVENT
DTSTART;TZID=America/Toronto:20200602T093000
DTEND;TZID=America/Toronto:20200602T103000
DTSTAMP:20260421T082938
CREATED:20200508T180526Z
LAST-MODIFIED:20200508T180526Z
UID:2776-1591090200-1591093800@odano.ca
SUMMARY:Mylotarg - Pfizer PSP WebEx
DESCRIPTION:
URL:https://odano.ca/event/mylotarg-pfizer-psp-webex/
END:VEVENT
BEGIN:VEVENT
DTSTART;TZID=America/Toronto:20200512T093000
DTEND;TZID=America/Toronto:20200512T103000
DTSTAMP:20260421T082938
CREATED:20200507T115221Z
LAST-MODIFIED:20200507T115221Z
UID:2772-1589275800-1589279400@odano.ca
SUMMARY:Roche COVID 19 - Updates
DESCRIPTION:
URL:https://odano.ca/event/roche-covid-19-updates/
END:VEVENT
BEGIN:VEVENT
DTSTART;TZID=America/Toronto:20200507T120000
DTEND;TZID=America/Toronto:20200507T130000
DTSTAMP:20260421T082938
CREATED:20200507T115419Z
LAST-MODIFIED:20200507T115419Z
UID:2774-1588852800-1588856400@odano.ca
SUMMARY:Compassion Fatigue Demystified: Managing yourselves during stressful times
DESCRIPTION:
URL:https://odano.ca/event/compassion-fatigue-demystified-managing-yourselves-during-stressful-times/
END:VEVENT
BEGIN:VEVENT
DTSTART;TZID=America/Toronto:20191105T120000
DTEND;TZID=America/Toronto:20191105T123000
DTSTAMP:20260421T082938
CREATED:20191010T171549Z
LAST-MODIFIED:20191010T171549Z
UID:2672-1572955200-1572957000@odano.ca
SUMMARY:Eisai Lenvima PSP Update
DESCRIPTION:
URL:https://odano.ca/event/eisai-lenvima-psp-update/
END:VEVENT
BEGIN:VEVENT
DTSTART;TZID=America/Toronto:20191025T080000
DTEND;TZID=America/Toronto:20191025T170000
DTSTAMP:20260421T082938
CREATED:20190430T135724Z
LAST-MODIFIED:20190430T135724Z
UID:2543-1571990400-1572022800@odano.ca
SUMMARY:ODANO Fall Conference
DESCRIPTION:
URL:https://odano.ca/event/odano-fall-conference/
END:VEVENT
BEGIN:VEVENT
DTSTART;TZID=America/Toronto:20191024T183000
DTEND;TZID=America/Toronto:20191024T213000
DTSTAMP:20260421T082938
CREATED:20191015T141209Z
LAST-MODIFIED:20191015T141346Z
UID:2679-1571941800-1571952600@odano.ca
SUMMARY:Pre-Conference Dinner
DESCRIPTION:ONCOLOGY DRUG ACCESS NAVIGATORS OF ONTARIO \nPRE CONFERENCE EVENING PROGRAM: \nNourishing Your Well-Being as you work! \nWith MARY ELLIOTT \nConsultation/Liaison Psychiatry \nUHN – Princess Margaret Cancer Centre \nAssistant Professor\, University of Toronto \nGoals and Objectives: \n\nRecognize that there are ways to cultivate well-being and care for yourself as you work.\nIntroduce a framework and skills for building personal resilience as you work.\nExperience & reflect on 3 of the micro-practices associated with the resilience framework.\n\nMary Elliott\, MD\, FRCP (C)\, has worked as a consulting psychiatrist and psychotherapist at Princess Margaret Cancer Centre\, University Health Network\, University of Toronto for the past 25 years. She now runs the Mindful Healthcare program at Princess Margaret. She is the co-creator of Mindful Healthcare: C.P.R. (Compassion\, Presences and Resilience) Training for Health Providers. \nDate:            THURSDAY\, OCTOBER 24\, 2 2019 \nTime:                         6:30 pm – Reception \n7:00 pm – 9:30 pm – Presentation\, Discussion and Dinner \nLocation: Artrium Room\, Radisson Admiral Hotel\, 249 Queens Quay West\, Toronto \nPlease respond by MONDAY\, OCTOBER 21\, 2019 to Yvonne Ta: Yvonne.ta@uhn.ca
URL:https://odano.ca/event/pre-conference-dinner/
END:VEVENT
BEGIN:VEVENT
DTSTART;TZID=America/Toronto:20191017T100000
DTEND;TZID=America/Toronto:20191017T103000
DTSTAMP:20260421T082938
CREATED:20191008T123306Z
LAST-MODIFIED:20191008T123306Z
UID:2664-1571306400-1571308200@odano.ca
SUMMARY:Kisqali EAP Update from Novartis
DESCRIPTION:
URL:https://odano.ca/event/kisqali-eap-update-from-novartis/
END:VEVENT
BEGIN:VEVENT
DTSTART;TZID=America/Toronto:20190913T110000
DTEND;TZID=America/Toronto:20190913T113000
DTSTAMP:20260421T082938
CREATED:20190812T115130Z
LAST-MODIFIED:20190812T115130Z
UID:2622-1568372400-1568374200@odano.ca
SUMMARY:Libtayo- cemiplimab - Sanofi Genzyme
DESCRIPTION:
URL:https://odano.ca/event/libtayo-cemiplimab-sanofi-genzyme/
END:VEVENT
BEGIN:VEVENT
DTSTART;TZID=America/Toronto:20190905T123000
DTEND;TZID=America/Toronto:20190905T133000
DTSTAMP:20260421T082938
CREATED:20190815T124449Z
LAST-MODIFIED:20190815T124449Z
UID:2627-1567686600-1567690200@odano.ca
SUMMARY:Celgene Patient Support Program Updates
DESCRIPTION:
URL:https://odano.ca/event/celgene-patient-support-program-updates/
END:VEVENT
BEGIN:VEVENT
DTSTART;TZID=America/Toronto:20190822T123000
DTEND;TZID=America/Toronto:20190822T130000
DTSTAMP:20260421T082938
CREATED:20190807T141100Z
LAST-MODIFIED:20190807T141100Z
UID:2614-1566477000-1566478800@odano.ca
SUMMARY:GSC Navigation 2nd Session
DESCRIPTION:
URL:https://odano.ca/event/gsc-navigation-2nd-session/
END:VEVENT
BEGIN:VEVENT
DTSTART;TZID=America/Toronto:20190820T090000
DTEND;TZID=America/Toronto:20190820T100000
DTSTAMP:20260421T082938
CREATED:20190627T142235Z
LAST-MODIFIED:20190627T142235Z
UID:2581-1566291600-1566295200@odano.ca
SUMMARY:GSC - Benefit Reimbursement Navigator
DESCRIPTION:
URL:https://odano.ca/event/gsc-benefit-reimbursement-navigator/
END:VEVENT
BEGIN:VEVENT
DTSTART;TZID=America/Toronto:20190716T090000
DTEND;TZID=America/Toronto:20190716T093000
DTSTAMP:20260421T082938
CREATED:20190702T152728Z
LAST-MODIFIED:20190702T152728Z
UID:2597-1563267600-1563269400@odano.ca
SUMMARY:Akyzneo - Public Listing update on criteria
DESCRIPTION:
URL:https://odano.ca/event/akyzneo-public-listing-update-on-criteria/
END:VEVENT
BEGIN:VEVENT
DTSTART;TZID=America/Toronto:20190625T090000
DTEND;TZID=America/Toronto:20190625T100000
DTSTAMP:20260421T082938
CREATED:20190619T122500Z
LAST-MODIFIED:20190619T122500Z
UID:2579-1561453200-1561456800@odano.ca
SUMMARY:Venclexta EAP criteria Review
DESCRIPTION:
URL:https://odano.ca/event/venclexta-eap-criteria-review/
END:VEVENT
BEGIN:VEVENT
DTSTART;TZID=America/Toronto:20190618T090000
DTEND;TZID=America/Toronto:20190618T100000
DTSTAMP:20260421T082938
CREATED:20190529T173852Z
LAST-MODIFIED:20190529T173852Z
UID:2567-1560848400-1560852000@odano.ca
SUMMARY:MM Flow Map Update
DESCRIPTION:
URL:https://odano.ca/event/mm-flow-map-update/
END:VEVENT
BEGIN:VEVENT
DTSTART;TZID=America/Toronto:20190611T080000
DTEND;TZID=America/Toronto:20190611T170000
DTSTAMP:20260421T082938
CREATED:20190430T140248Z
LAST-MODIFIED:20190430T140248Z
UID:2551-1560240000-1560272400@odano.ca
SUMMARY:ODANO Learning Module Roll-Out - Ottawa
DESCRIPTION:
URL:https://odano.ca/event/odano-learning-module-roll-out-ottawa/
END:VEVENT
BEGIN:VEVENT
DTSTART;TZID=America/Toronto:20190604T080000
DTEND;TZID=America/Toronto:20190604T170000
DTSTAMP:20260421T082938
CREATED:20190430T140121Z
LAST-MODIFIED:20190430T140121Z
UID:2548-1559635200-1559667600@odano.ca
SUMMARY:ODANO Learning Module Roll-Out - London
DESCRIPTION:
URL:https://odano.ca/event/odano-learning-module-roll-out-london/
END:VEVENT
BEGIN:VEVENT
DTSTART;TZID=America/Toronto:20190530T080000
DTEND;TZID=America/Toronto:20190530T170000
DTSTAMP:20260421T082938
CREATED:20190430T135939Z
LAST-MODIFIED:20190430T135939Z
UID:2545-1559203200-1559235600@odano.ca
SUMMARY:ODANO Learning Module Roll-Out - Toronto
DESCRIPTION:
URL:https://odano.ca/event/odano-learning-module-roll-out-toronto/
END:VEVENT
BEGIN:VEVENT
DTSTART;TZID=America/Toronto:20190524T080000
DTEND;TZID=America/Toronto:20190524T170000
DTSTAMP:20260421T082938
CREATED:20190430T135645Z
LAST-MODIFIED:20190430T135645Z
UID:2541-1558684800-1558717200@odano.ca
SUMMARY:ODANO - Best Practice Conference
DESCRIPTION:
URL:https://odano.ca/event/odano-best-practice-conference/
END:VEVENT
BEGIN:VEVENT
DTSTART;TZID=America/Toronto:20190514T090000
DTEND;TZID=America/Toronto:20190514T100000
DTSTAMP:20260421T082938
CREATED:20190430T135613Z
LAST-MODIFIED:20190430T135613Z
UID:2539-1557824400-1557828000@odano.ca
SUMMARY:Pfizer - Lorbrena / Vizimpro
DESCRIPTION:
URL:https://odano.ca/event/pfizer-lorbrena-vizimpro/
END:VEVENT
BEGIN:VEVENT
DTSTART;TZID=America/Toronto:20190430T090000
DTEND;TZID=America/Toronto:20190430T093000
DTSTAMP:20260421T082938
CREATED:20190319T122103Z
LAST-MODIFIED:20190319T122103Z
UID:2510-1556614800-1556616600@odano.ca
SUMMARY:Roche RPAP FA and FG Update
DESCRIPTION:
URL:https://odano.ca/event/roche-rpap-fa-and-fg-update/
END:VEVENT
BEGIN:VEVENT
DTSTART;TZID=America/Toronto:20190423T090000
DTEND;TZID=America/Toronto:20190423T100000
DTSTAMP:20260421T082938
CREATED:20190405T120156Z
LAST-MODIFIED:20190405T120156Z
UID:2531-1556010000-1556013600@odano.ca
SUMMARY:Celgene Update - MM Sequencing and Funding
DESCRIPTION:
URL:https://odano.ca/event/celgene-update-mm-sequencing-and-funding/
END:VEVENT
BEGIN:VEVENT
DTSTART;TZID=America/Toronto:20190416T090000
DTEND;TZID=America/Toronto:20190416T093000
DTSTAMP:20260421T082938
CREATED:20190322T174630Z
LAST-MODIFIED:20190322T174630Z
UID:2524-1555405200-1555407000@odano.ca
SUMMARY:Lapelga Update
DESCRIPTION:
URL:https://odano.ca/event/lapelga-update/
END:VEVENT
BEGIN:VEVENT
DTSTART;TZID=America/Toronto:20190403T090000
DTEND;TZID=America/Toronto:20190403T100000
DTSTAMP:20260421T082938
CREATED:20190325T130640Z
LAST-MODIFIED:20190325T130640Z
UID:2526-1554282000-1554285600@odano.ca
SUMMARY:Merck -Keytruda new indication for Lung
DESCRIPTION:
URL:https://odano.ca/event/merck-keytruda-new-indication-for-lung/
END:VEVENT
BEGIN:VEVENT
DTSTART;TZID=America/Toronto:20190402T090000
DTEND;TZID=America/Toronto:20190402T100000
DTSTAMP:20260421T082938
CREATED:20190213T130652Z
LAST-MODIFIED:20190213T130652Z
UID:2499-1554195600-1554199200@odano.ca
SUMMARY:Novartis - Tasigna Total free remission
DESCRIPTION:
URL:https://odano.ca/event/novartis-tasigna-total-free-remission/
END:VEVENT
BEGIN:VEVENT
DTSTART;TZID=America/Toronto:20190326T090000
DTEND;TZID=America/Toronto:20190326T093000
DTSTAMP:20260421T082938
CREATED:20190320T185006Z
LAST-MODIFIED:20190320T185006Z
UID:2519-1553590800-1553592600@odano.ca
SUMMARY:Darzalex Funding Update
DESCRIPTION:
URL:https://odano.ca/event/darzalex-funding-update/
END:VEVENT
BEGIN:VEVENT
DTSTART;TZID=America/Toronto:20190319T090000
DTEND;TZID=America/Toronto:20190319T093000
DTSTAMP:20260421T082938
CREATED:20190313T113413Z
LAST-MODIFIED:20190313T113413Z
UID:2504-1552986000-1552987800@odano.ca
SUMMARY:Pfizer Oncology - New Program Launch Details
DESCRIPTION:
URL:https://odano.ca/event/pfizer-oncology-new-program-launch-details/
END:VEVENT
BEGIN:VEVENT
DTSTART;TZID=America/Toronto:20190305T090000
DTEND;TZID=America/Toronto:20190305T093000
DTSTAMP:20260421T082938
CREATED:20190128T150659Z
LAST-MODIFIED:20190128T150659Z
UID:2487-1551776400-1551778200@odano.ca
SUMMARY:Pomalyst Review Criteria EAP
DESCRIPTION:
URL:https://odano.ca/event/pomalyst-review-criteria-eap/
END:VEVENT
BEGIN:VEVENT
DTSTART;TZID=America/Toronto:20190212T090000
DTEND;TZID=America/Toronto:20190212T100000
DTSTAMP:20260421T082938
CREATED:20190121T153610Z
LAST-MODIFIED:20190121T153610Z
UID:2484-1549962000-1549965600@odano.ca
SUMMARY:AMELiO - BMS Overview of Program
DESCRIPTION:
URL:https://odano.ca/event/amelio-bms-overview-of-program/
END:VEVENT
BEGIN:VEVENT
DTSTART;TZID=America/Toronto:20190205T090000
DTEND;TZID=America/Toronto:20190205T093000
DTSTAMP:20260421T082938
CREATED:20190109T132928Z
LAST-MODIFIED:20190109T132943Z
UID:2459-1549357200-1549359000@odano.ca
SUMMARY:Answers Portal Demo
DESCRIPTION:
URL:https://odano.ca/event/answers-portal-demo/
END:VEVENT
BEGIN:VEVENT
DTSTART;TZID=America/Toronto:20190108T090000
DTEND;TZID=America/Toronto:20190108T093000
DTSTAMP:20260421T082938
CREATED:20181129T124751Z
LAST-MODIFIED:20181203T153559Z
UID:2423-1546938000-1546939800@odano.ca
SUMMARY:Opdivo Adjuvant Melanoma Update
DESCRIPTION:
URL:https://odano.ca/event/opdivo-adjuvant-melanoma-update/
END:VEVENT
END:VCALENDAR